BEGIN:VCALENDAR
VERSION:2.0
PRODID:Imitheme.com 
BEGIN:VEVENT
UID:20260423T061459539760867
DTSTAMP;TZID=UTC:2026-04-23 06:14:59
DTSTART;TZID=America/Los_Angeles:20260423T061459
DTEND;TZID=America/Los_Angeles:20260423T061459
SUMMARY:Gravy Vibes Saturday  - Throwbacks | Dance Hall | Reggaeton | Top 40 - Sounds by DJ GSTUTTA
LOCATION:4923 Lankershim Blvd North Hollywood\, CA 91601
DESCRIPTION:Gravy Vibes Saturdays at Skinny’s Lounge – North Hollywood’s best hip-hop night! Dance to top DJs, enjoy great drinks, and vibe all night in the NoHo Arts District.
URL:https://skinnyslounge.com/eventer/gravy-vibes-saturdays-best-hip-hop-club-in-north-hollywood/
END:VEVENT
END:VCALENDAR
