BEGIN:VCALENDAR
VERSION:2.0
PRODID:Imitheme.com 
BEGIN:VEVENT
UID:20260423T0619281617862963
DTSTAMP;TZID=UTC:2026-04-23 06:19:28
DTSTART;TZID=America/Los_Angeles:20260423T061928
DTEND;TZID=America/Los_Angeles:20260423T061928
SUMMARY:AYO Fridays with DJ WILL - Hip Hop | Throwbacks | Reggaeton | Top 40 Hits
LOCATION:4923 Lankershim Blvd North Hollywood\, CA 91601
DESCRIPTION:Experience Finally Friday at Skinny’s Lounge – the best hip-hop club night in North Hollywood! Enjoy top DJs, great drinks, and an electric vibe every Friday night.
URL:https://skinnyslounge.com/eventer/fridays-hip-hop-club-in-north-hollywood/
END:VEVENT
END:VCALENDAR
