BEGIN:VCALENDAR
VERSION:2.0
PRODID:Imitheme.com 
BEGIN:VEVENT
UID:20260423T0618022023576330
DTSTAMP;TZID=UTC:2026-04-23 06:18:02
DTSTART;TZID=America/Los_Angeles:20260423T061802
DTEND;TZID=America/Los_Angeles:20260423T061802
SUMMARY:Monday - Closed for Private Events
LOCATION:4923 Lankershim Blvd North Hollywood\, CA 91601
DESCRIPTION:
URL:https://skinnyslounge.com/eventer/monday-closed-for-private-events/
END:VEVENT
END:VCALENDAR
